BEGIN:VCALENDAR
VERSION:2.0
PRODID:-//Three Mermaids Pub | Tigard, OR - ECPv6.15.20//NONSGML v1.0//EN
CALSCALE:GREGORIAN
METHOD:PUBLISH
X-WR-CALNAME:Three Mermaids Pub | Tigard, OR
X-ORIGINAL-URL:https://www.threemermaidspub.com
X-WR-CALDESC:Events for Three Mermaids Pub | Tigard, OR
REFRESH-INTERVAL;VALUE=DURATION:PT1H
X-Robots-Tag:noindex
X-PUBLISHED-TTL:PT1H
BEGIN:VTIMEZONE
TZID:UTC
BEGIN:STANDARD
TZOFFSETFROM:+0000
TZOFFSETTO:+0000
TZNAME:UTC
DTSTART:20250101T000000
END:STANDARD
END:VTIMEZONE
BEGIN:VEVENT
DTSTART;VALUE=DATE:20260610
DTEND;VALUE=DATE:20260611
DTSTAMP:20260419T133923
CREATED:20260417T002131Z
LAST-MODIFIED:20260417T002131Z
UID:2849-1781049600-1781135999@www.threemermaidspub.com
SUMMARY:Wine Wednesday!
DESCRIPTION:Enjoy 10% off all wine and cider! \nSnack & Sip! – Choose between a bottle of Barossa Valley Red Blend or Browne Family Pinot Gris and pair it with a caprese crostini plate or a Brie and apple with spicy cherry crostini plate for only $30!
URL:https://www.threemermaidspub.com/event/wine-wednesday-23/
LOCATION:Three Mermaids Pub\, 18041 SW Lower Boones Ferry Rd.\, Tigard\, OR\, 97224
CATEGORIES:Wine Wednesday
END:VEVENT
BEGIN:VEVENT
DTSTART;TZID=UTC:20260610T190000
DTEND;TZID=UTC:20260610T210000
DTSTAMP:20260419T133923
CREATED:20260417T003020Z
LAST-MODIFIED:20260417T003020Z
UID:2866-1781118000-1781125200@www.threemermaidspub.com
SUMMARY:General Trivia!
DESCRIPTION:
URL:https://www.threemermaidspub.com/event/general-trivia-97/
LOCATION:Three Mermaids Pub\, 18041 SW Lower Boones Ferry Rd.\, Tigard\, OR\, 97224
CATEGORIES:Trivia Night
END:VEVENT
BEGIN:VEVENT
DTSTART;VALUE=DATE:20260611
DTEND;VALUE=DATE:20260612
DTSTAMP:20260419T133923
CREATED:20260417T003915Z
LAST-MODIFIED:20260417T003915Z
UID:2880-1781136000-1781222399@www.threemermaidspub.com
SUMMARY:Thirsty Thursday!
DESCRIPTION:10% off growler fills – All Day \nHappy Hour 3-6 / $1 off pints 3-close
URL:https://www.threemermaidspub.com/event/thirsty-thursday-40/
LOCATION:Three Mermaids Pub\, 18041 SW Lower Boones Ferry Rd.\, Tigard\, OR\, 97224
CATEGORIES:Thirsty Thursday
END:VEVENT
BEGIN:VEVENT
DTSTART;TZID=UTC:20260612T150000
DTEND;TZID=UTC:20260612T210000
DTSTAMP:20260419T133923
CREATED:20260417T005408Z
LAST-MODIFIED:20260417T005408Z
UID:2900-1781276400-1781298000@www.threemermaidspub.com
SUMMARY:Fri-YAY!
DESCRIPTION:Join us in kicking off the weekend the right way with Happy Hour from 3pm-Close!
URL:https://www.threemermaidspub.com/event/fri-yay-41/
LOCATION:Three Mermaids Pub\, 18041 SW Lower Boones Ferry Rd.\, Tigard\, OR\, 97224
CATEGORIES:Fri-YAY
END:VEVENT
BEGIN:VEVENT
DTSTART;VALUE=DATE:20260614
DTEND;VALUE=DATE:20260615
DTSTAMP:20260419T133923
CREATED:20260416T173851Z
LAST-MODIFIED:20260416T173851Z
UID:2794-1781395200-1781481599@www.threemermaidspub.com
SUMMARY:Sunday F.U.N.day!
DESCRIPTION:Bottomless Mimosas $20 -All Day \nBrunch 11am-2pm \nHappy Hour 3-6
URL:https://www.threemermaidspub.com/event/sunday-f-u-n-day-23/
LOCATION:Three Mermaids Pub\, 18041 SW Lower Boones Ferry Rd.\, Tigard\, OR\, 97224
CATEGORIES:Sunday FUNday
END:VEVENT
BEGIN:VEVENT
DTSTART;TZID=UTC:20260615T110000
DTEND;TZID=UTC:20260615T150000
DTSTAMP:20260419T133923
CREATED:20260417T000723Z
LAST-MODIFIED:20260417T000723Z
UID:2812-1781521200-1781535600@www.threemermaidspub.com
SUMMARY:Burger Monday!
DESCRIPTION:Enjoy $2 off burgers 11am-3pm! \n(Excluding Special menu items)
URL:https://www.threemermaidspub.com/event/burger-monday-23/
LOCATION:Three Mermaids Pub\, 18041 SW Lower Boones Ferry Rd.\, Tigard\, OR\, 97224
CATEGORIES:Food
END:VEVENT
BEGIN:VEVENT
DTSTART;VALUE=DATE:20260616
DTEND;VALUE=DATE:20260617
DTSTAMP:20260419T133923
CREATED:20260417T001534Z
LAST-MODIFIED:20260417T001534Z
UID:2832-1781568000-1781654399@www.threemermaidspub.com
SUMMARY:iTaco Tuesday!
DESCRIPTION:Join us for Taco Tuesday! We have $8 house margaritas\, $4.75 Mexican Lagers\, and of course TACOS! \n(2) Chicken or Pork soft tacos served with chips and salsa – $11 \n(2) Cod or Shrimp soft tacos served with chips and salsa – $15
URL:https://www.threemermaidspub.com/event/itaco-tuesday-45/
LOCATION:Three Mermaids Pub\, 18041 SW Lower Boones Ferry Rd.\, Tigard\, OR\, 97224
CATEGORIES:Taco Tuesday!
END:VEVENT
BEGIN:VEVENT
DTSTART;VALUE=DATE:20260617
DTEND;VALUE=DATE:20260618
DTSTAMP:20260419T133923
CREATED:20260417T002236Z
LAST-MODIFIED:20260417T002236Z
UID:2851-1781654400-1781740799@www.threemermaidspub.com
SUMMARY:Wine Wednesday!
DESCRIPTION:Enjoy 10% off all wine and cider! \nSnack & Sip! – Choose between a bottle of Barossa Valley Red Blend or Browne Family Pinot Gris and pair it with a caprese crostini plate or a Brie and apple with spicy cherry crostini plate for only $30!
URL:https://www.threemermaidspub.com/event/wine-wednesday-24/
LOCATION:Three Mermaids Pub\, 18041 SW Lower Boones Ferry Rd.\, Tigard\, OR\, 97224
CATEGORIES:Wine Wednesday
END:VEVENT
BEGIN:VEVENT
DTSTART;TZID=UTC:20260617T190000
DTEND;TZID=UTC:20260617T210000
DTSTAMP:20260419T133923
CREATED:20260417T003051Z
LAST-MODIFIED:20260417T003051Z
UID:2868-1781722800-1781730000@www.threemermaidspub.com
SUMMARY:General Trivia!
DESCRIPTION:
URL:https://www.threemermaidspub.com/event/general-trivia-98/
LOCATION:Three Mermaids Pub\, 18041 SW Lower Boones Ferry Rd.\, Tigard\, OR\, 97224
CATEGORIES:Trivia Night
END:VEVENT
BEGIN:VEVENT
DTSTART;VALUE=DATE:20260618
DTEND;VALUE=DATE:20260619
DTSTAMP:20260419T133923
CREATED:20260417T004001Z
LAST-MODIFIED:20260417T004001Z
UID:2882-1781740800-1781827199@www.threemermaidspub.com
SUMMARY:Thirsty Thursday!
DESCRIPTION:10% off growler fills – All Day \nHappy Hour 3-6 / $1 off pints 3-close
URL:https://www.threemermaidspub.com/event/thirsty-thursday-41/
LOCATION:Three Mermaids Pub\, 18041 SW Lower Boones Ferry Rd.\, Tigard\, OR\, 97224
CATEGORIES:Thirsty Thursday
END:VEVENT
BEGIN:VEVENT
DTSTART;TZID=UTC:20260619T150000
DTEND;TZID=UTC:20260619T210000
DTSTAMP:20260419T133923
CREATED:20260417T005443Z
LAST-MODIFIED:20260417T005443Z
UID:2902-1781881200-1781902800@www.threemermaidspub.com
SUMMARY:Fri-YAY!
DESCRIPTION:Join us in kicking off the weekend the right way with Happy Hour from 3pm-Close!
URL:https://www.threemermaidspub.com/event/fri-yay-42/
LOCATION:Three Mermaids Pub\, 18041 SW Lower Boones Ferry Rd.\, Tigard\, OR\, 97224
CATEGORIES:Fri-YAY
END:VEVENT
BEGIN:VEVENT
DTSTART;VALUE=DATE:20260621
DTEND;VALUE=DATE:20260622
DTSTAMP:20260419T133923
CREATED:20260416T173924Z
LAST-MODIFIED:20260416T173924Z
UID:2796-1782000000-1782086399@www.threemermaidspub.com
SUMMARY:Sunday F.U.N.day!
DESCRIPTION:Bottomless Mimosas $20 -All Day \nBrunch 11am-2pm \nHappy Hour 3-6
URL:https://www.threemermaidspub.com/event/sunday-f-u-n-day-24/
LOCATION:Three Mermaids Pub\, 18041 SW Lower Boones Ferry Rd.\, Tigard\, OR\, 97224
CATEGORIES:Sunday FUNday
END:VEVENT
BEGIN:VEVENT
DTSTART;TZID=UTC:20260622T110000
DTEND;TZID=UTC:20260622T150000
DTSTAMP:20260419T133923
CREATED:20260417T000850Z
LAST-MODIFIED:20260417T000850Z
UID:2815-1782126000-1782140400@www.threemermaidspub.com
SUMMARY:Burger Monday!
DESCRIPTION:Enjoy $2 off burgers 11am-3pm! \n(Excluding Special menu items)
URL:https://www.threemermaidspub.com/event/burger-monday-24/
LOCATION:Three Mermaids Pub\, 18041 SW Lower Boones Ferry Rd.\, Tigard\, OR\, 97224
CATEGORIES:Food
END:VEVENT
BEGIN:VEVENT
DTSTART;VALUE=DATE:20260623
DTEND;VALUE=DATE:20260624
DTSTAMP:20260419T133923
CREATED:20260417T001604Z
LAST-MODIFIED:20260417T001604Z
UID:2834-1782172800-1782259199@www.threemermaidspub.com
SUMMARY:iTaco Tuesday!
DESCRIPTION:Join us for Taco Tuesday! We have $8 house margaritas\, $4.75 Mexican Lagers\, and of course TACOS! \n(2) Chicken or Pork soft tacos served with chips and salsa – $11 \n(2) Cod or Shrimp soft tacos served with chips and salsa – $15
URL:https://www.threemermaidspub.com/event/itaco-tuesday-46/
LOCATION:Three Mermaids Pub\, 18041 SW Lower Boones Ferry Rd.\, Tigard\, OR\, 97224
CATEGORIES:Taco Tuesday!
END:VEVENT
BEGIN:VEVENT
DTSTART;VALUE=DATE:20260624
DTEND;VALUE=DATE:20260625
DTSTAMP:20260419T133923
CREATED:20260417T002328Z
LAST-MODIFIED:20260417T002917Z
UID:2853-1782259200-1782345599@www.threemermaidspub.com
SUMMARY:Wine Wednesday!
DESCRIPTION:Enjoy 10% off all wine and cider! \nSnack & Sip! – Choose between a bottle of Barossa Valley Red Blend or Browne Family Pinot Gris and pair it with a caprese crostini plate or a Brie and apple with spicy cherry crostini plate for only $30!
URL:https://www.threemermaidspub.com/event/wine-wednesday-25/
LOCATION:Three Mermaids Pub\, 18041 SW Lower Boones Ferry Rd.\, Tigard\, OR\, 97224
CATEGORIES:Wine Wednesday
END:VEVENT
BEGIN:VEVENT
DTSTART;TZID=UTC:20260624T190000
DTEND;TZID=UTC:20260624T210000
DTSTAMP:20260419T133923
CREATED:20260417T003126Z
LAST-MODIFIED:20260417T003126Z
UID:2870-1782327600-1782334800@www.threemermaidspub.com
SUMMARY:General Trivia!
DESCRIPTION:
URL:https://www.threemermaidspub.com/event/general-trivia-99/
LOCATION:Three Mermaids Pub\, 18041 SW Lower Boones Ferry Rd.\, Tigard\, OR\, 97224
CATEGORIES:Trivia Night
END:VEVENT
BEGIN:VEVENT
DTSTART;VALUE=DATE:20260625
DTEND;VALUE=DATE:20260626
DTSTAMP:20260419T133923
CREATED:20260417T004129Z
LAST-MODIFIED:20260417T004129Z
UID:2884-1782345600-1782431999@www.threemermaidspub.com
SUMMARY:Thirsty Thursday!
DESCRIPTION:10% off growler fills – All Day \nHappy Hour 3-6 / $1 off pints 3-close
URL:https://www.threemermaidspub.com/event/thirsty-thursday-42/
LOCATION:Three Mermaids Pub\, 18041 SW Lower Boones Ferry Rd.\, Tigard\, OR\, 97224
CATEGORIES:Thirsty Thursday
END:VEVENT
BEGIN:VEVENT
DTSTART;TZID=UTC:20260626T150000
DTEND;TZID=UTC:20260626T210000
DTSTAMP:20260419T133923
CREATED:20260417T005520Z
LAST-MODIFIED:20260417T005520Z
UID:2904-1782486000-1782507600@www.threemermaidspub.com
SUMMARY:Fri-YAY!
DESCRIPTION:Join us in kicking off the weekend the right way with Happy Hour from 3pm-Close!
URL:https://www.threemermaidspub.com/event/fri-yay-43/
LOCATION:Three Mermaids Pub\, 18041 SW Lower Boones Ferry Rd.\, Tigard\, OR\, 97224
CATEGORIES:Fri-YAY
END:VEVENT
BEGIN:VEVENT
DTSTART;VALUE=DATE:20260628
DTEND;VALUE=DATE:20260629
DTSTAMP:20260419T133923
CREATED:20260416T173954Z
LAST-MODIFIED:20260416T173954Z
UID:2798-1782604800-1782691199@www.threemermaidspub.com
SUMMARY:Sunday F.U.N.day!
DESCRIPTION:Bottomless Mimosas $20 -All Day \nBrunch 11am-2pm \nHappy Hour 3-6
URL:https://www.threemermaidspub.com/event/sunday-f-u-n-day-25/
LOCATION:Three Mermaids Pub\, 18041 SW Lower Boones Ferry Rd.\, Tigard\, OR\, 97224
CATEGORIES:Sunday FUNday
END:VEVENT
BEGIN:VEVENT
DTSTART;TZID=UTC:20260629T110000
DTEND;TZID=UTC:20260629T150000
DTSTAMP:20260419T133923
CREATED:20260417T000922Z
LAST-MODIFIED:20260417T000922Z
UID:2817-1782730800-1782745200@www.threemermaidspub.com
SUMMARY:Burger Monday!
DESCRIPTION:Enjoy $2 off burgers 11am-3pm! \n(Excluding Special menu items)
URL:https://www.threemermaidspub.com/event/burger-monday-25/
LOCATION:Three Mermaids Pub\, 18041 SW Lower Boones Ferry Rd.\, Tigard\, OR\, 97224
CATEGORIES:Food
END:VEVENT
BEGIN:VEVENT
DTSTART;VALUE=DATE:20260630
DTEND;VALUE=DATE:20260701
DTSTAMP:20260419T133923
CREATED:20260417T001649Z
LAST-MODIFIED:20260417T001649Z
UID:2836-1782777600-1782863999@www.threemermaidspub.com
SUMMARY:iTaco Tuesday!
DESCRIPTION:Join us for Taco Tuesday! We have $8 house margaritas\, $4.75 Mexican Lagers\, and of course TACOS! \n(2) Chicken or Pork soft tacos served with chips and salsa – $11 \n(2) Cod or Shrimp soft tacos served with chips and salsa – $15
URL:https://www.threemermaidspub.com/event/itaco-tuesday-47/
LOCATION:Three Mermaids Pub\, 18041 SW Lower Boones Ferry Rd.\, Tigard\, OR\, 97224
CATEGORIES:Taco Tuesday!
END:VEVENT
END:VCALENDAR