BEGIN:VCALENDAR
VERSION:2.0
PRODID:-//Three Mermaids Pub | Tigard, OR - ECPv6.15.20//NONSGML v1.0//EN
CALSCALE:GREGORIAN
METHOD:PUBLISH
X-ORIGINAL-URL:https://www.threemermaidspub.com
X-WR-CALDESC:Events for Three Mermaids Pub | Tigard, OR
REFRESH-INTERVAL;VALUE=DURATION:PT1H
X-Robots-Tag:noindex
X-PUBLISHED-TTL:PT1H
BEGIN:VTIMEZONE
TZID:UTC
BEGIN:STANDARD
TZOFFSETFROM:+0000
TZOFFSETTO:+0000
TZNAME:UTC
DTSTART:20250101T000000
END:STANDARD
END:VTIMEZONE
BEGIN:VEVENT
DTSTART;VALUE=DATE:20260422
DTEND;VALUE=DATE:20260423
DTSTAMP:20260421T162139
CREATED:20260301T181911Z
LAST-MODIFIED:20260301T181911Z
UID:2695-1776816000-1776902399@www.threemermaidspub.com
SUMMARY:Wine Wednesday!
DESCRIPTION:Enjoy 10% off all wine and cider! \nSnack & Sip! – Choose between a bottle of Barossa Valley Red Blend or Browne Family Pinot Gris and pair it with a caprese crostini plate or a Brie and apple with spicy cherry crostini plate for only $30!
URL:https://www.threemermaidspub.com/event/wine-wednesday-16/
LOCATION:Three Mermaids Pub\, 18041 SW Lower Boones Ferry Rd.\, Tigard\, OR\, 97224
CATEGORIES:Wine Wednesday
END:VEVENT
BEGIN:VEVENT
DTSTART;VALUE=DATE:20260429
DTEND;VALUE=DATE:20260430
DTSTAMP:20260421T162139
CREATED:20260301T181946Z
LAST-MODIFIED:20260301T181946Z
UID:2697-1777420800-1777507199@www.threemermaidspub.com
SUMMARY:Wine Wednesday!
DESCRIPTION:Enjoy 10% off all wine and cider! \nSnack & Sip! – Choose between a bottle of Barossa Valley Red Blend or Browne Family Pinot Gris and pair it with a caprese crostini plate or a Brie and apple with spicy cherry crostini plate for only $30!
URL:https://www.threemermaidspub.com/event/wine-wednesday-17/
LOCATION:Three Mermaids Pub\, 18041 SW Lower Boones Ferry Rd.\, Tigard\, OR\, 97224
CATEGORIES:Wine Wednesday
END:VEVENT
BEGIN:VEVENT
DTSTART;VALUE=DATE:20260506
DTEND;VALUE=DATE:20260507
DTSTAMP:20260421T162139
CREATED:20260417T001744Z
LAST-MODIFIED:20260417T001744Z
UID:2838-1778025600-1778111999@www.threemermaidspub.com
SUMMARY:Wine Wednesday!
DESCRIPTION:Enjoy 10% off all wine and cider! \nSnack & Sip! – Choose between a bottle of Barossa Valley Red Blend or Browne Family Pinot Gris and pair it with a caprese crostini plate or a Brie and apple with spicy cherry crostini plate for only $30!
URL:https://www.threemermaidspub.com/event/wine-wednesday-18/
LOCATION:Three Mermaids Pub\, 18041 SW Lower Boones Ferry Rd.\, Tigard\, OR\, 97224
CATEGORIES:Wine Wednesday
END:VEVENT
BEGIN:VEVENT
DTSTART;VALUE=DATE:20260513
DTEND;VALUE=DATE:20260514
DTSTAMP:20260421T162139
CREATED:20260417T001812Z
LAST-MODIFIED:20260417T001812Z
UID:2840-1778630400-1778716799@www.threemermaidspub.com
SUMMARY:Wine Wednesday!
DESCRIPTION:Enjoy 10% off all wine and cider! \nSnack & Sip! – Choose between a bottle of Barossa Valley Red Blend or Browne Family Pinot Gris and pair it with a caprese crostini plate or a Brie and apple with spicy cherry crostini plate for only $30!
URL:https://www.threemermaidspub.com/event/wine-wednesday-19/
LOCATION:Three Mermaids Pub\, 18041 SW Lower Boones Ferry Rd.\, Tigard\, OR\, 97224
CATEGORIES:Wine Wednesday
END:VEVENT
BEGIN:VEVENT
DTSTART;VALUE=DATE:20260520
DTEND;VALUE=DATE:20260521
DTSTAMP:20260421T162139
CREATED:20260417T001842Z
LAST-MODIFIED:20260417T001934Z
UID:2842-1779235200-1779321599@www.threemermaidspub.com
SUMMARY:Wine Wednesday!
DESCRIPTION:Enjoy 10% off all wine and cider! \nSnack & Sip! – Choose between a bottle of Barossa Valley Red Blend or Browne Family Pinot Gris and pair it with a caprese crostini plate or a Brie and apple with spicy cherry crostini plate for only $30!
URL:https://www.threemermaidspub.com/event/wine-wednesday-20/
LOCATION:Three Mermaids Pub\, 18041 SW Lower Boones Ferry Rd.\, Tigard\, OR\, 97224
CATEGORIES:Wine Wednesday
END:VEVENT
BEGIN:VEVENT
DTSTART;VALUE=DATE:20260527
DTEND;VALUE=DATE:20260528
DTSTAMP:20260421T162139
CREATED:20260417T002032Z
LAST-MODIFIED:20260417T002032Z
UID:2845-1779840000-1779926399@www.threemermaidspub.com
SUMMARY:Wine Wednesday!
DESCRIPTION:Enjoy 10% off all wine and cider! \nSnack & Sip! – Choose between a bottle of Barossa Valley Red Blend or Browne Family Pinot Gris and pair it with a caprese crostini plate or a Brie and apple with spicy cherry crostini plate for only $30!
URL:https://www.threemermaidspub.com/event/wine-wednesday-21/
LOCATION:Three Mermaids Pub\, 18041 SW Lower Boones Ferry Rd.\, Tigard\, OR\, 97224
CATEGORIES:Wine Wednesday
END:VEVENT
BEGIN:VEVENT
DTSTART;VALUE=DATE:20260603
DTEND;VALUE=DATE:20260604
DTSTAMP:20260421T162139
CREATED:20260417T002103Z
LAST-MODIFIED:20260417T002103Z
UID:2847-1780444800-1780531199@www.threemermaidspub.com
SUMMARY:Wine Wednesday!
DESCRIPTION:Enjoy 10% off all wine and cider! \nSnack & Sip! – Choose between a bottle of Barossa Valley Red Blend or Browne Family Pinot Gris and pair it with a caprese crostini plate or a Brie and apple with spicy cherry crostini plate for only $30!
URL:https://www.threemermaidspub.com/event/wine-wednesday-22/
LOCATION:Three Mermaids Pub\, 18041 SW Lower Boones Ferry Rd.\, Tigard\, OR\, 97224
CATEGORIES:Wine Wednesday
END:VEVENT
BEGIN:VEVENT
DTSTART;VALUE=DATE:20260610
DTEND;VALUE=DATE:20260611
DTSTAMP:20260421T162139
CREATED:20260417T002131Z
LAST-MODIFIED:20260417T002131Z
UID:2849-1781049600-1781135999@www.threemermaidspub.com
SUMMARY:Wine Wednesday!
DESCRIPTION:Enjoy 10% off all wine and cider! \nSnack & Sip! – Choose between a bottle of Barossa Valley Red Blend or Browne Family Pinot Gris and pair it with a caprese crostini plate or a Brie and apple with spicy cherry crostini plate for only $30!
URL:https://www.threemermaidspub.com/event/wine-wednesday-23/
LOCATION:Three Mermaids Pub\, 18041 SW Lower Boones Ferry Rd.\, Tigard\, OR\, 97224
CATEGORIES:Wine Wednesday
END:VEVENT
BEGIN:VEVENT
DTSTART;VALUE=DATE:20260617
DTEND;VALUE=DATE:20260618
DTSTAMP:20260421T162139
CREATED:20260417T002236Z
LAST-MODIFIED:20260417T002236Z
UID:2851-1781654400-1781740799@www.threemermaidspub.com
SUMMARY:Wine Wednesday!
DESCRIPTION:Enjoy 10% off all wine and cider! \nSnack & Sip! – Choose between a bottle of Barossa Valley Red Blend or Browne Family Pinot Gris and pair it with a caprese crostini plate or a Brie and apple with spicy cherry crostini plate for only $30!
URL:https://www.threemermaidspub.com/event/wine-wednesday-24/
LOCATION:Three Mermaids Pub\, 18041 SW Lower Boones Ferry Rd.\, Tigard\, OR\, 97224
CATEGORIES:Wine Wednesday
END:VEVENT
BEGIN:VEVENT
DTSTART;VALUE=DATE:20260624
DTEND;VALUE=DATE:20260625
DTSTAMP:20260421T162139
CREATED:20260417T002328Z
LAST-MODIFIED:20260417T002917Z
UID:2853-1782259200-1782345599@www.threemermaidspub.com
SUMMARY:Wine Wednesday!
DESCRIPTION:Enjoy 10% off all wine and cider! \nSnack & Sip! – Choose between a bottle of Barossa Valley Red Blend or Browne Family Pinot Gris and pair it with a caprese crostini plate or a Brie and apple with spicy cherry crostini plate for only $30!
URL:https://www.threemermaidspub.com/event/wine-wednesday-25/
LOCATION:Three Mermaids Pub\, 18041 SW Lower Boones Ferry Rd.\, Tigard\, OR\, 97224
CATEGORIES:Wine Wednesday
END:VEVENT
END:VCALENDAR