BEGIN:VCALENDAR
VERSION:2.0
PRODID:-//Three Mermaids Pub | Tigard, OR - ECPv6.15.20//NONSGML v1.0//EN
CALSCALE:GREGORIAN
METHOD:PUBLISH
X-WR-CALNAME:Three Mermaids Pub | Tigard, OR
X-ORIGINAL-URL:https://www.threemermaidspub.com
X-WR-CALDESC:Events for Three Mermaids Pub | Tigard, OR
REFRESH-INTERVAL;VALUE=DURATION:PT1H
X-Robots-Tag:noindex
X-PUBLISHED-TTL:PT1H
BEGIN:VTIMEZONE
TZID:UTC
BEGIN:STANDARD
TZOFFSETFROM:+0000
TZOFFSETTO:+0000
TZNAME:UTC
DTSTART:20250101T000000
END:STANDARD
END:VTIMEZONE
BEGIN:VEVENT
DTSTART;VALUE=DATE:20260304
DTEND;VALUE=DATE:20260305
DTSTAMP:20260421T163246
CREATED:20260301T181545Z
LAST-MODIFIED:20260301T181545Z
UID:2680-1772582400-1772668799@www.threemermaidspub.com
SUMMARY:Wine Wednesday!
DESCRIPTION:Enjoy 10% off all wine and cider! \nSnack & Sip! – Choose between a bottle of Barossa Valley Red Blend or Browne Family Pinot Gris and pair it with a caprese crostini plate or a Brie and apple with spicy cherry crostini plate for only $30!
URL:https://www.threemermaidspub.com/event/wine-wednesday-9/
LOCATION:Three Mermaids Pub\, 18041 SW Lower Boones Ferry Rd.\, Tigard\, OR\, 97224
CATEGORIES:Wine Wednesday
END:VEVENT
BEGIN:VEVENT
DTSTART;VALUE=DATE:20260311
DTEND;VALUE=DATE:20260312
DTSTAMP:20260421T163246
CREATED:20260301T181613Z
LAST-MODIFIED:20260301T181613Z
UID:2682-1773187200-1773273599@www.threemermaidspub.com
SUMMARY:Wine Wednesday!
DESCRIPTION:Enjoy 10% off all wine and cider! \nSnack & Sip! – Choose between a bottle of Barossa Valley Red Blend or Browne Family Pinot Gris and pair it with a caprese crostini plate or a Brie and apple with spicy cherry crostini plate for only $30!
URL:https://www.threemermaidspub.com/event/wine-wednesday-10/
LOCATION:Three Mermaids Pub\, 18041 SW Lower Boones Ferry Rd.\, Tigard\, OR\, 97224
CATEGORIES:Wine Wednesday
END:VEVENT
BEGIN:VEVENT
DTSTART;VALUE=DATE:20260318
DTEND;VALUE=DATE:20260319
DTSTAMP:20260421T163246
CREATED:20260301T181700Z
LAST-MODIFIED:20260301T181700Z
UID:2685-1773792000-1773878399@www.threemermaidspub.com
SUMMARY:Wine Wednesday!
DESCRIPTION:Enjoy 10% off all wine and cider! \nSnack & Sip! – Choose between a bottle of Barossa Valley Red Blend or Browne Family Pinot Gris and pair it with a caprese crostini plate or a Brie and apple with spicy cherry crostini plate for only $30!
URL:https://www.threemermaidspub.com/event/wine-wednesday-11/
LOCATION:Three Mermaids Pub\, 18041 SW Lower Boones Ferry Rd.\, Tigard\, OR\, 97224
CATEGORIES:Wine Wednesday
END:VEVENT
BEGIN:VEVENT
DTSTART;VALUE=DATE:20260325
DTEND;VALUE=DATE:20260326
DTSTAMP:20260421T163246
CREATED:20260301T181726Z
LAST-MODIFIED:20260301T181726Z
UID:2687-1774396800-1774483199@www.threemermaidspub.com
SUMMARY:Wine Wednesday!
DESCRIPTION:Enjoy 10% off all wine and cider! \nSnack & Sip! – Choose between a bottle of Barossa Valley Red Blend or Browne Family Pinot Gris and pair it with a caprese crostini plate or a Brie and apple with spicy cherry crostini plate for only $30!
URL:https://www.threemermaidspub.com/event/wine-wednesday-12/
LOCATION:Three Mermaids Pub\, 18041 SW Lower Boones Ferry Rd.\, Tigard\, OR\, 97224
CATEGORIES:Wine Wednesday
END:VEVENT
END:VCALENDAR