BEGIN:VCALENDAR
VERSION:2.0
PRODID:-//Three Mermaids Pub | Tigard, OR - ECPv6.15.20//NONSGML v1.0//EN
CALSCALE:GREGORIAN
METHOD:PUBLISH
X-WR-CALNAME:Three Mermaids Pub | Tigard, OR
X-ORIGINAL-URL:https://www.threemermaidspub.com
X-WR-CALDESC:Events for Three Mermaids Pub | Tigard, OR
REFRESH-INTERVAL;VALUE=DURATION:PT1H
X-Robots-Tag:noindex
X-PUBLISHED-TTL:PT1H
BEGIN:VTIMEZONE
TZID:UTC
BEGIN:STANDARD
TZOFFSETFROM:+0000
TZOFFSETTO:+0000
TZNAME:UTC
DTSTART:20250101T000000
END:STANDARD
END:VTIMEZONE
BEGIN:VEVENT
DTSTART;VALUE=DATE:20260204
DTEND;VALUE=DATE:20260205
DTSTAMP:20260421T180746
CREATED:20260102T182254Z
LAST-MODIFIED:20260102T182254Z
UID:2461-1770163200-1770249599@www.threemermaidspub.com
SUMMARY:Wine Wednesday!
DESCRIPTION:Enjoy 10% off all wine and cider.
URL:https://www.threemermaidspub.com/event/wine-wednesday-5/
LOCATION:Three Mermaids Pub\, 18041 SW Lower Boones Ferry Rd.\, Tigard\, OR\, 97224
CATEGORIES:Wine Wednesday
END:VEVENT
BEGIN:VEVENT
DTSTART;VALUE=DATE:20260211
DTEND;VALUE=DATE:20260212
DTSTAMP:20260421T180746
CREATED:20260102T182324Z
LAST-MODIFIED:20260102T182324Z
UID:2463-1770768000-1770854399@www.threemermaidspub.com
SUMMARY:Wine Wednesday!
DESCRIPTION:Enjoy 10% off all wine and cider.
URL:https://www.threemermaidspub.com/event/wine-wednesday-6/
LOCATION:Three Mermaids Pub\, 18041 SW Lower Boones Ferry Rd.\, Tigard\, OR\, 97224
CATEGORIES:Wine Wednesday
END:VEVENT
BEGIN:VEVENT
DTSTART;VALUE=DATE:20260218
DTEND;VALUE=DATE:20260219
DTSTAMP:20260421T180746
CREATED:20260102T182451Z
LAST-MODIFIED:20260102T182451Z
UID:2465-1771372800-1771459199@www.threemermaidspub.com
SUMMARY:Wine Wednesday!
DESCRIPTION:Enjoy 10% off all wine and cider.
URL:https://www.threemermaidspub.com/event/wine-wednesday-7/
LOCATION:Three Mermaids Pub\, 18041 SW Lower Boones Ferry Rd.\, Tigard\, OR\, 97224
CATEGORIES:Wine Wednesday
END:VEVENT
BEGIN:VEVENT
DTSTART;VALUE=DATE:20260225
DTEND;VALUE=DATE:20260226
DTSTAMP:20260421T180746
CREATED:20260102T182517Z
LAST-MODIFIED:20260102T182517Z
UID:2467-1771977600-1772063999@www.threemermaidspub.com
SUMMARY:Wine Wednesday!
DESCRIPTION:Enjoy 10% off all wine and cider.
URL:https://www.threemermaidspub.com/event/wine-wednesday-8/
LOCATION:Three Mermaids Pub\, 18041 SW Lower Boones Ferry Rd.\, Tigard\, OR\, 97224
CATEGORIES:Wine Wednesday
END:VEVENT
END:VCALENDAR