BEGIN:VCALENDAR
VERSION:2.0
PRODID:-//Three Mermaids Pub | Tigard, OR - ECPv6.15.20//NONSGML v1.0//EN
CALSCALE:GREGORIAN
METHOD:PUBLISH
X-WR-CALNAME:Three Mermaids Pub | Tigard, OR
X-ORIGINAL-URL:https://www.threemermaidspub.com
X-WR-CALDESC:Events for Three Mermaids Pub | Tigard, OR
REFRESH-INTERVAL;VALUE=DURATION:PT1H
X-Robots-Tag:noindex
X-PUBLISHED-TTL:PT1H
BEGIN:VTIMEZONE
TZID:UTC
BEGIN:STANDARD
TZOFFSETFROM:+0000
TZOFFSETTO:+0000
TZNAME:UTC
DTSTART:20250101T000000
END:STANDARD
END:VTIMEZONE
BEGIN:VEVENT
DTSTART;TZID=UTC:20260401T190000
DTEND;TZID=UTC:20260401T210000
DTSTAMP:20260423T011125
CREATED:20260306T175121Z
LAST-MODIFIED:20260306T175121Z
UID:2749-1775070000-1775077200@www.threemermaidspub.com
SUMMARY:General Trivia!
DESCRIPTION:
URL:https://www.threemermaidspub.com/event/general-trivia-87/
LOCATION:Three Mermaids Pub\, 18041 SW Lower Boones Ferry Rd.\, Tigard\, OR\, 97224
CATEGORIES:Trivia Night
END:VEVENT
BEGIN:VEVENT
DTSTART;TZID=UTC:20260406T183000
DTEND;TZID=UTC:20260406T203000
DTSTAMP:20260423T011125
CREATED:20260306T174753Z
LAST-MODIFIED:20260306T174753Z
UID:2737-1775500200-1775507400@www.threemermaidspub.com
SUMMARY:Finish The Lyrics Trivia!
DESCRIPTION:
URL:https://www.threemermaidspub.com/event/finish-the-lyrics-trivia-2/
LOCATION:Three Mermaids Pub\, 18041 SW Lower Boones Ferry Rd.\, Tigard\, OR\, 97224
CATEGORIES:Trivia Night
END:VEVENT
BEGIN:VEVENT
DTSTART;TZID=UTC:20260408T190000
DTEND;TZID=UTC:20260408T210000
DTSTAMP:20260423T011125
CREATED:20260306T175153Z
LAST-MODIFIED:20260306T175153Z
UID:2751-1775674800-1775682000@www.threemermaidspub.com
SUMMARY:General Trivia!
DESCRIPTION:
URL:https://www.threemermaidspub.com/event/general-trivia-88/
LOCATION:Three Mermaids Pub\, 18041 SW Lower Boones Ferry Rd.\, Tigard\, OR\, 97224
CATEGORIES:Trivia Night
END:VEVENT
BEGIN:VEVENT
DTSTART;TZID=UTC:20260415T190000
DTEND;TZID=UTC:20260415T210000
DTSTAMP:20260423T011125
CREATED:20260306T175225Z
LAST-MODIFIED:20260306T175225Z
UID:2753-1776279600-1776286800@www.threemermaidspub.com
SUMMARY:General Trivia!
DESCRIPTION:
URL:https://www.threemermaidspub.com/event/general-trivia-89/
LOCATION:Three Mermaids Pub\, 18041 SW Lower Boones Ferry Rd.\, Tigard\, OR\, 97224
CATEGORIES:Trivia Night
END:VEVENT
BEGIN:VEVENT
DTSTART;TZID=UTC:20260420T183000
DTEND;TZID=UTC:20260420T203000
DTSTAMP:20260423T011125
CREATED:20260306T174832Z
LAST-MODIFIED:20260306T174832Z
UID:2739-1776709800-1776717000@www.threemermaidspub.com
SUMMARY:The Office Trivia!
DESCRIPTION:
URL:https://www.threemermaidspub.com/event/the-office-trivia-4/
LOCATION:Three Mermaids Pub\, 18041 SW Lower Boones Ferry Rd.\, Tigard\, OR\, 97224
CATEGORIES:Trivia Night
END:VEVENT
BEGIN:VEVENT
DTSTART;TZID=UTC:20260422T190000
DTEND;TZID=UTC:20260422T210000
DTSTAMP:20260423T011125
CREATED:20260306T180718Z
LAST-MODIFIED:20260306T180718Z
UID:2755-1776884400-1776891600@www.threemermaidspub.com
SUMMARY:General Trivia!
DESCRIPTION:
URL:https://www.threemermaidspub.com/event/general-trivia-90/
LOCATION:Three Mermaids Pub\, 18041 SW Lower Boones Ferry Rd.\, Tigard\, OR\, 97224
CATEGORIES:Trivia Night
END:VEVENT
BEGIN:VEVENT
DTSTART;TZID=UTC:20260429T190000
DTEND;TZID=UTC:20260429T210000
DTSTAMP:20260423T011125
CREATED:20260306T180753Z
LAST-MODIFIED:20260306T180753Z
UID:2757-1777489200-1777496400@www.threemermaidspub.com
SUMMARY:General Trivia!
DESCRIPTION:
URL:https://www.threemermaidspub.com/event/general-trivia-91/
LOCATION:Three Mermaids Pub\, 18041 SW Lower Boones Ferry Rd.\, Tigard\, OR\, 97224
CATEGORIES:Trivia Night
END:VEVENT
BEGIN:VEVENT
DTSTART;TZID=UTC:20260504T183000
DTEND;TZID=UTC:20260504T203000
DTSTAMP:20260423T011125
CREATED:20260306T174905Z
LAST-MODIFIED:20260306T174905Z
UID:2741-1777919400-1777926600@www.threemermaidspub.com
SUMMARY:Star Wars Trivia!
DESCRIPTION:
URL:https://www.threemermaidspub.com/event/star-wars-trivia/
LOCATION:Three Mermaids Pub\, 18041 SW Lower Boones Ferry Rd.\, Tigard\, OR\, 97224
CATEGORIES:Trivia Night
END:VEVENT
BEGIN:VEVENT
DTSTART;TZID=UTC:20260506T190000
DTEND;TZID=UTC:20260506T210000
DTSTAMP:20260423T011125
CREATED:20260417T002423Z
LAST-MODIFIED:20260417T002423Z
UID:2855-1778094000-1778101200@www.threemermaidspub.com
SUMMARY:General Trivia!
DESCRIPTION:
URL:https://www.threemermaidspub.com/event/general-trivia-92/
LOCATION:Three Mermaids Pub\, 18041 SW Lower Boones Ferry Rd.\, Tigard\, OR\, 97224
CATEGORIES:Trivia Night
END:VEVENT
BEGIN:VEVENT
DTSTART;TZID=UTC:20260513T190000
DTEND;TZID=UTC:20260513T210000
DTSTAMP:20260423T011125
CREATED:20260417T002501Z
LAST-MODIFIED:20260417T002501Z
UID:2857-1778698800-1778706000@www.threemermaidspub.com
SUMMARY:General Trivia!
DESCRIPTION:
URL:https://www.threemermaidspub.com/event/general-trivia-93/
LOCATION:Three Mermaids Pub\, 18041 SW Lower Boones Ferry Rd.\, Tigard\, OR\, 97224
CATEGORIES:Trivia Night
END:VEVENT
BEGIN:VEVENT
DTSTART;TZID=UTC:20260520T190000
DTEND;TZID=UTC:20260520T210000
DTSTAMP:20260423T011125
CREATED:20260417T002605Z
LAST-MODIFIED:20260417T002605Z
UID:2859-1779303600-1779310800@www.threemermaidspub.com
SUMMARY:General Trivia!
DESCRIPTION:
URL:https://www.threemermaidspub.com/event/general-trivia-94/
LOCATION:Three Mermaids Pub\, 18041 SW Lower Boones Ferry Rd.\, Tigard\, OR\, 97224
CATEGORIES:Trivia Night
END:VEVENT
BEGIN:VEVENT
DTSTART;TZID=UTC:20260527T190000
DTEND;TZID=UTC:20260527T210000
DTSTAMP:20260423T011125
CREATED:20260417T002645Z
LAST-MODIFIED:20260417T002645Z
UID:2861-1779908400-1779915600@www.threemermaidspub.com
SUMMARY:General Trivia!
DESCRIPTION:
URL:https://www.threemermaidspub.com/event/general-trivia-95/
LOCATION:Three Mermaids Pub\, 18041 SW Lower Boones Ferry Rd.\, Tigard\, OR\, 97224
CATEGORIES:Trivia Night
END:VEVENT
BEGIN:VEVENT
DTSTART;TZID=UTC:20260603T190000
DTEND;TZID=UTC:20260603T210000
DTSTAMP:20260423T011125
CREATED:20260417T002740Z
LAST-MODIFIED:20260417T002740Z
UID:2863-1780513200-1780520400@www.threemermaidspub.com
SUMMARY:General Trivia!
DESCRIPTION:Enjoy 10% off all wine and cider! \nSnack & Sip! – Choose between a bottle of Barossa Valley Red Blend or Browne Family Pinot Gris and pair it with a caprese crostini plate or a Brie and apple with spicy cherry crostini plate for only $30!
URL:https://www.threemermaidspub.com/event/general-trivia-96/
LOCATION:Three Mermaids Pub\, 18041 SW Lower Boones Ferry Rd.\, Tigard\, OR\, 97224
CATEGORIES:Trivia Night
END:VEVENT
BEGIN:VEVENT
DTSTART;TZID=UTC:20260610T190000
DTEND;TZID=UTC:20260610T210000
DTSTAMP:20260423T011125
CREATED:20260417T003020Z
LAST-MODIFIED:20260417T003020Z
UID:2866-1781118000-1781125200@www.threemermaidspub.com
SUMMARY:General Trivia!
DESCRIPTION:
URL:https://www.threemermaidspub.com/event/general-trivia-97/
LOCATION:Three Mermaids Pub\, 18041 SW Lower Boones Ferry Rd.\, Tigard\, OR\, 97224
CATEGORIES:Trivia Night
END:VEVENT
BEGIN:VEVENT
DTSTART;TZID=UTC:20260617T190000
DTEND;TZID=UTC:20260617T210000
DTSTAMP:20260423T011125
CREATED:20260417T003051Z
LAST-MODIFIED:20260417T003051Z
UID:2868-1781722800-1781730000@www.threemermaidspub.com
SUMMARY:General Trivia!
DESCRIPTION:
URL:https://www.threemermaidspub.com/event/general-trivia-98/
LOCATION:Three Mermaids Pub\, 18041 SW Lower Boones Ferry Rd.\, Tigard\, OR\, 97224
CATEGORIES:Trivia Night
END:VEVENT
BEGIN:VEVENT
DTSTART;TZID=UTC:20260624T190000
DTEND;TZID=UTC:20260624T210000
DTSTAMP:20260423T011125
CREATED:20260417T003126Z
LAST-MODIFIED:20260417T003126Z
UID:2870-1782327600-1782334800@www.threemermaidspub.com
SUMMARY:General Trivia!
DESCRIPTION:
URL:https://www.threemermaidspub.com/event/general-trivia-99/
LOCATION:Three Mermaids Pub\, 18041 SW Lower Boones Ferry Rd.\, Tigard\, OR\, 97224
CATEGORIES:Trivia Night
END:VEVENT
END:VCALENDAR