BEGIN:VCALENDAR
VERSION:2.0
PRODID:-//Three Mermaids Pub | Tigard, OR - ECPv6.15.20//NONSGML v1.0//EN
CALSCALE:GREGORIAN
METHOD:PUBLISH
X-WR-CALNAME:Three Mermaids Pub | Tigard, OR
X-ORIGINAL-URL:https://www.threemermaidspub.com
X-WR-CALDESC:Events for Three Mermaids Pub | Tigard, OR
REFRESH-INTERVAL;VALUE=DURATION:PT1H
X-Robots-Tag:noindex
X-PUBLISHED-TTL:PT1H
BEGIN:VTIMEZONE
TZID:UTC
BEGIN:STANDARD
TZOFFSETFROM:+0000
TZOFFSETTO:+0000
TZNAME:UTC
DTSTART:20240101T000000
END:STANDARD
END:VTIMEZONE
BEGIN:VEVENT
DTSTART;TZID=UTC:20260218T190000
DTEND;TZID=UTC:20260218T210000
DTSTAMP:20260424T093529
CREATED:20260102T183536Z
LAST-MODIFIED:20260102T183536Z
UID:2501-1771441200-1771448400@www.threemermaidspub.com
SUMMARY:General Trivia
DESCRIPTION:
URL:https://www.threemermaidspub.com/event/general-trivia-82/
LOCATION:Three Mermaids Pub\, 18041 SW Lower Boones Ferry Rd.\, Tigard\, OR\, 97224
CATEGORIES:Trivia Night
END:VEVENT
BEGIN:VEVENT
DTSTART;TZID=UTC:20260216T190000
DTEND;TZID=UTC:20260216T210000
DTSTAMP:20260424T093529
CREATED:20260103T195246Z
LAST-MODIFIED:20260103T195246Z
UID:2529-1771268400-1771275600@www.threemermaidspub.com
SUMMARY:Gilmore Girls Trivia
DESCRIPTION:
URL:https://www.threemermaidspub.com/event/gilmore-girls-trivia/
LOCATION:Three Mermaids Pub\, 18041 SW Lower Boones Ferry Rd.\, Tigard\, OR\, 97224
CATEGORIES:Trivia Night
END:VEVENT
BEGIN:VEVENT
DTSTART;TZID=UTC:20260211T190000
DTEND;TZID=UTC:20260211T210000
DTSTAMP:20260424T093529
CREATED:20260102T183502Z
LAST-MODIFIED:20260102T183502Z
UID:2499-1770836400-1770843600@www.threemermaidspub.com
SUMMARY:General Trivia
DESCRIPTION:
URL:https://www.threemermaidspub.com/event/general-trivia-81/
LOCATION:Three Mermaids Pub\, 18041 SW Lower Boones Ferry Rd.\, Tigard\, OR\, 97224
CATEGORIES:Trivia Night
END:VEVENT
BEGIN:VEVENT
DTSTART;TZID=UTC:20260204T190000
DTEND;TZID=UTC:20260204T210000
DTSTAMP:20260424T093529
CREATED:20260102T183432Z
LAST-MODIFIED:20260102T183432Z
UID:2497-1770231600-1770238800@www.threemermaidspub.com
SUMMARY:General Trivia
DESCRIPTION:
URL:https://www.threemermaidspub.com/event/general-trivia-80/
LOCATION:Three Mermaids Pub\, 18041 SW Lower Boones Ferry Rd.\, Tigard\, OR\, 97224
CATEGORIES:Trivia Night
END:VEVENT
BEGIN:VEVENT
DTSTART;TZID=UTC:20260202T190000
DTEND;TZID=UTC:20260202T210000
DTSTAMP:20260424T093529
CREATED:20260103T195158Z
LAST-MODIFIED:20260103T195158Z
UID:2527-1770058800-1770066000@www.threemermaidspub.com
SUMMARY:Name That Tune Trivia
DESCRIPTION:
URL:https://www.threemermaidspub.com/event/name-that-tune-trivia-4/
LOCATION:Three Mermaids Pub\, 18041 SW Lower Boones Ferry Rd.\, Tigard\, OR\, 97224
CATEGORIES:Trivia Night
END:VEVENT
BEGIN:VEVENT
DTSTART;TZID=UTC:20260128T190000
DTEND;TZID=UTC:20260128T210000
DTSTAMP:20260424T093529
CREATED:20260102T183355Z
LAST-MODIFIED:20260102T183355Z
UID:2495-1769626800-1769634000@www.threemermaidspub.com
SUMMARY:General Trivia
DESCRIPTION:
URL:https://www.threemermaidspub.com/event/general-trivia-79/
LOCATION:Three Mermaids Pub\, 18041 SW Lower Boones Ferry Rd.\, Tigard\, OR\, 97224
CATEGORIES:Trivia Night
END:VEVENT
BEGIN:VEVENT
DTSTART;TZID=UTC:20260121T190000
DTEND;TZID=UTC:20260121T210000
DTSTAMP:20260424T093529
CREATED:20260102T183324Z
LAST-MODIFIED:20260102T183324Z
UID:2493-1769022000-1769029200@www.threemermaidspub.com
SUMMARY:General Trivia
DESCRIPTION:
URL:https://www.threemermaidspub.com/event/general-trivia-78/
LOCATION:Three Mermaids Pub\, 18041 SW Lower Boones Ferry Rd.\, Tigard\, OR\, 97224
CATEGORIES:Trivia Night
END:VEVENT
BEGIN:VEVENT
DTSTART;TZID=UTC:20260119T190000
DTEND;TZID=UTC:20260119T210000
DTSTAMP:20260424T093529
CREATED:20260102T183151Z
LAST-MODIFIED:20260102T183151Z
UID:2487-1768849200-1768856400@www.threemermaidspub.com
SUMMARY:Harry Potter Trivia!
DESCRIPTION:
URL:https://www.threemermaidspub.com/event/harry-potter-trivia-2/
LOCATION:Three Mermaids Pub\, 18041 SW Lower Boones Ferry Rd.\, Tigard\, OR\, 97224
CATEGORIES:Trivia Night
END:VEVENT
BEGIN:VEVENT
DTSTART;TZID=UTC:20260114T190000
DTEND;TZID=UTC:20260114T210000
DTSTAMP:20260424T093529
CREATED:20260102T183256Z
LAST-MODIFIED:20260102T183256Z
UID:2491-1768417200-1768424400@www.threemermaidspub.com
SUMMARY:General Trivia
DESCRIPTION:
URL:https://www.threemermaidspub.com/event/general-trivia-77/
LOCATION:Three Mermaids Pub\, 18041 SW Lower Boones Ferry Rd.\, Tigard\, OR\, 97224
CATEGORIES:Trivia Night
END:VEVENT
BEGIN:VEVENT
DTSTART;TZID=UTC:20260107T190000
DTEND;TZID=UTC:20260107T210000
DTSTAMP:20260424T093529
CREATED:20260102T183228Z
LAST-MODIFIED:20260102T183228Z
UID:2489-1767812400-1767819600@www.threemermaidspub.com
SUMMARY:General Trivia
DESCRIPTION:
URL:https://www.threemermaidspub.com/event/general-trivia-76/
LOCATION:Three Mermaids Pub\, 18041 SW Lower Boones Ferry Rd.\, Tigard\, OR\, 97224
CATEGORIES:Trivia Night
END:VEVENT
BEGIN:VEVENT
DTSTART;TZID=UTC:20251126T190000
DTEND;TZID=UTC:20251126T210000
DTSTAMP:20260424T093529
CREATED:20251105T231329Z
LAST-MODIFIED:20251105T231329Z
UID:2283-1764183600-1764190800@www.threemermaidspub.com
SUMMARY:General Trivia
DESCRIPTION:
URL:https://www.threemermaidspub.com/event/general-trivia-75/
LOCATION:Three Mermaids Pub\, 18041 SW Lower Boones Ferry Rd.\, Tigard\, OR\, 97224
CATEGORIES:Trivia Night
END:VEVENT
BEGIN:VEVENT
DTSTART;TZID=UTC:20251119T190000
DTEND;TZID=UTC:20251119T210000
DTSTAMP:20260424T093529
CREATED:20251105T231259Z
LAST-MODIFIED:20251105T231259Z
UID:2281-1763578800-1763586000@www.threemermaidspub.com
SUMMARY:General Trivia
DESCRIPTION:
URL:https://www.threemermaidspub.com/event/general-trivia-74/
LOCATION:Three Mermaids Pub\, 18041 SW Lower Boones Ferry Rd.\, Tigard\, OR\, 97224
CATEGORIES:Trivia Night
END:VEVENT
BEGIN:VEVENT
DTSTART;TZID=UTC:20251112T190000
DTEND;TZID=UTC:20251112T210000
DTSTAMP:20260424T093529
CREATED:20251105T230920Z
LAST-MODIFIED:20251105T230920Z
UID:2279-1762974000-1762981200@www.threemermaidspub.com
SUMMARY:General Trivia
DESCRIPTION:
URL:https://www.threemermaidspub.com/event/general-trivia-73/
LOCATION:Three Mermaids Pub\, 18041 SW Lower Boones Ferry Rd.\, Tigard\, OR\, 97224
CATEGORIES:Trivia Night
END:VEVENT
BEGIN:VEVENT
DTSTART;TZID=UTC:20251105T190000
DTEND;TZID=UTC:20251105T210000
DTSTAMP:20260424T093529
CREATED:20251105T230355Z
LAST-MODIFIED:20251105T230355Z
UID:2269-1762369200-1762376400@www.threemermaidspub.com
SUMMARY:General Trivia
DESCRIPTION:
URL:https://www.threemermaidspub.com/event/general-trivia-72/
LOCATION:Three Mermaids Pub\, 18041 SW Lower Boones Ferry Rd.\, Tigard\, OR\, 97224
CATEGORIES:Trivia Night
END:VEVENT
BEGIN:VEVENT
DTSTART;TZID=UTC:20251029T190000
DTEND;TZID=UTC:20251029T210000
DTSTAMP:20260424T093529
CREATED:20250930T204645Z
LAST-MODIFIED:20250930T204645Z
UID:2187-1761764400-1761771600@www.threemermaidspub.com
SUMMARY:General Trivia
DESCRIPTION:
URL:https://www.threemermaidspub.com/event/general-trivia-71/
LOCATION:Three Mermaids Pub\, 18041 SW Lower Boones Ferry Rd.\, Tigard\, OR\, 97224
CATEGORIES:Trivia Night
END:VEVENT
BEGIN:VEVENT
DTSTART;TZID=UTC:20251022T190000
DTEND;TZID=UTC:20251022T210000
DTSTAMP:20260424T093529
CREATED:20250930T204614Z
LAST-MODIFIED:20250930T204614Z
UID:2185-1761159600-1761166800@www.threemermaidspub.com
SUMMARY:General Trivia
DESCRIPTION:
URL:https://www.threemermaidspub.com/event/general-trivia-70/
LOCATION:Three Mermaids Pub\, 18041 SW Lower Boones Ferry Rd.\, Tigard\, OR\, 97224
CATEGORIES:Trivia Night
END:VEVENT
BEGIN:VEVENT
DTSTART;TZID=UTC:20251015T190000
DTEND;TZID=UTC:20251015T210000
DTSTAMP:20260424T093529
CREATED:20250930T204541Z
LAST-MODIFIED:20250930T204541Z
UID:2183-1760554800-1760562000@www.threemermaidspub.com
SUMMARY:General Trivia
DESCRIPTION:
URL:https://www.threemermaidspub.com/event/general-trivia-69/
LOCATION:Three Mermaids Pub\, 18041 SW Lower Boones Ferry Rd.\, Tigard\, OR\, 97224
CATEGORIES:Trivia Night
END:VEVENT
BEGIN:VEVENT
DTSTART;TZID=UTC:20251008T190000
DTEND;TZID=UTC:20251008T210000
DTSTAMP:20260424T093529
CREATED:20250930T204507Z
LAST-MODIFIED:20250930T204507Z
UID:2181-1759950000-1759957200@www.threemermaidspub.com
SUMMARY:General Trivia
DESCRIPTION:
URL:https://www.threemermaidspub.com/event/general-trivia-68/
LOCATION:Three Mermaids Pub\, 18041 SW Lower Boones Ferry Rd.\, Tigard\, OR\, 97224
CATEGORIES:Trivia Night
END:VEVENT
BEGIN:VEVENT
DTSTART;TZID=UTC:20251001T190000
DTEND;TZID=UTC:20251001T210000
DTSTAMP:20260424T093529
CREATED:20250930T204429Z
LAST-MODIFIED:20250930T204429Z
UID:2179-1759345200-1759352400@www.threemermaidspub.com
SUMMARY:General Trivia
DESCRIPTION:
URL:https://www.threemermaidspub.com/event/general-trivia-67/
LOCATION:Three Mermaids Pub\, 18041 SW Lower Boones Ferry Rd.\, Tigard\, OR\, 97224
CATEGORIES:Trivia Night
END:VEVENT
BEGIN:VEVENT
DTSTART;TZID=UTC:20250924T190000
DTEND;TZID=UTC:20250924T210000
DTSTAMP:20260424T093529
CREATED:20250807T232629Z
LAST-MODIFIED:20250807T232629Z
UID:2061-1758740400-1758747600@www.threemermaidspub.com
SUMMARY:General Trivia
DESCRIPTION:
URL:https://www.threemermaidspub.com/event/general-trivia-65/
LOCATION:Three Mermaids Pub\, 18041 SW Lower Boones Ferry Rd.\, Tigard\, OR\, 97224
CATEGORIES:Trivia Night
END:VEVENT
BEGIN:VEVENT
DTSTART;TZID=UTC:20250917T190000
DTEND;TZID=UTC:20250917T210000
DTSTAMP:20260424T093529
CREATED:20250807T232727Z
LAST-MODIFIED:20250807T232727Z
UID:2063-1758135600-1758142800@www.threemermaidspub.com
SUMMARY:General Trivia
DESCRIPTION:
URL:https://www.threemermaidspub.com/event/general-trivia-66/
LOCATION:Three Mermaids Pub\, 18041 SW Lower Boones Ferry Rd.\, Tigard\, OR\, 97224
CATEGORIES:Trivia Night
END:VEVENT
BEGIN:VEVENT
DTSTART;TZID=UTC:20250910T190000
DTEND;TZID=UTC:20250910T210000
DTSTAMP:20260424T093529
CREATED:20250807T232514Z
LAST-MODIFIED:20250807T232514Z
UID:2057-1757530800-1757538000@www.threemermaidspub.com
SUMMARY:General Trivia
DESCRIPTION:
URL:https://www.threemermaidspub.com/event/general-trivia-63/
LOCATION:Three Mermaids Pub\, 18041 SW Lower Boones Ferry Rd.\, Tigard\, OR\, 97224
CATEGORIES:Trivia Night
END:VEVENT
BEGIN:VEVENT
DTSTART;TZID=UTC:20250903T190000
DTEND;TZID=UTC:20250903T210000
DTSTAMP:20260424T093529
CREATED:20250807T232435Z
LAST-MODIFIED:20250807T232435Z
UID:2055-1756926000-1756933200@www.threemermaidspub.com
SUMMARY:General Trivia
DESCRIPTION:
URL:https://www.threemermaidspub.com/event/general-trivia-62/
LOCATION:Three Mermaids Pub\, 18041 SW Lower Boones Ferry Rd.\, Tigard\, OR\, 97224
CATEGORIES:Trivia Night
END:VEVENT
BEGIN:VEVENT
DTSTART;TZID=UTC:20250901T190000
DTEND;TZID=UTC:20250901T210000
DTSTAMP:20260424T093529
CREATED:20250731T185407Z
LAST-MODIFIED:20250731T185407Z
UID:1999-1756753200-1756760400@www.threemermaidspub.com
SUMMARY:The Year 2000 Trivia
DESCRIPTION:
URL:https://www.threemermaidspub.com/event/the-year-2000-trivia/
LOCATION:Three Mermaids Pub\, 18041 SW Lower Boones Ferry Rd.\, Tigard\, OR\, 97224
CATEGORIES:Trivia Night
END:VEVENT
BEGIN:VEVENT
DTSTART;TZID=UTC:20250827T190000
DTEND;TZID=UTC:20250827T210000
DTSTAMP:20260424T093529
CREATED:20250807T232406Z
LAST-MODIFIED:20250807T232406Z
UID:2053-1756321200-1756328400@www.threemermaidspub.com
SUMMARY:General Trivia
DESCRIPTION:
URL:https://www.threemermaidspub.com/event/general-trivia-61/
LOCATION:Three Mermaids Pub\, 18041 SW Lower Boones Ferry Rd.\, Tigard\, OR\, 97224
CATEGORIES:Trivia Night
END:VEVENT
BEGIN:VEVENT
DTSTART;TZID=UTC:20250820T190000
DTEND;TZID=UTC:20250820T210000
DTSTAMP:20260424T093529
CREATED:20250807T232140Z
LAST-MODIFIED:20250807T232140Z
UID:2051-1755716400-1755723600@www.threemermaidspub.com
SUMMARY:General Trivia
DESCRIPTION:
URL:https://www.threemermaidspub.com/event/general-trivia-60/
LOCATION:Three Mermaids Pub\, 18041 SW Lower Boones Ferry Rd.\, Tigard\, OR\, 97224
CATEGORIES:Trivia Night
END:VEVENT
BEGIN:VEVENT
DTSTART;TZID=UTC:20250818T190000
DTEND;TZID=UTC:20250818T210000
DTSTAMP:20260424T093529
CREATED:20250731T185330Z
LAST-MODIFIED:20250731T185330Z
UID:1997-1755543600-1755550800@www.threemermaidspub.com
SUMMARY:The Office Trivia
DESCRIPTION:
URL:https://www.threemermaidspub.com/event/the-office-trivia-3/
LOCATION:Three Mermaids Pub\, 18041 SW Lower Boones Ferry Rd.\, Tigard\, OR\, 97224
CATEGORIES:Trivia Night
END:VEVENT
BEGIN:VEVENT
DTSTART;TZID=UTC:20250813T190000
DTEND;TZID=UTC:20250813T210000
DTSTAMP:20260424T093529
CREATED:20250807T173129Z
LAST-MODIFIED:20250807T173151Z
UID:2035-1755111600-1755118800@www.threemermaidspub.com
SUMMARY:General Trivia
DESCRIPTION:
URL:https://www.threemermaidspub.com/event/general-trivia-59/
LOCATION:Three Mermaids Pub\, 18041 SW Lower Boones Ferry Rd.\, Tigard\, OR\, 97224
CATEGORIES:Trivia Night
END:VEVENT
BEGIN:VEVENT
DTSTART;TZID=UTC:20250807T190000
DTEND;TZID=UTC:20250807T210000
DTSTAMP:20260424T093529
CREATED:20250807T232553Z
LAST-MODIFIED:20250807T232553Z
UID:2059-1754593200-1754600400@www.threemermaidspub.com
SUMMARY:General Trivia
DESCRIPTION:
URL:https://www.threemermaidspub.com/event/general-trivia-64/
LOCATION:Three Mermaids Pub\, 18041 SW Lower Boones Ferry Rd.\, Tigard\, OR\, 97224
CATEGORIES:Trivia Night
END:VEVENT
BEGIN:VEVENT
DTSTART;TZID=UTC:20250804T190000
DTEND;TZID=UTC:20250804T210000
DTSTAMP:20260424T093529
CREATED:20250731T185259Z
LAST-MODIFIED:20250731T185259Z
UID:1995-1754334000-1754341200@www.threemermaidspub.com
SUMMARY:Disney Trivia
DESCRIPTION:
URL:https://www.threemermaidspub.com/event/disney-trivia-2/
LOCATION:Three Mermaids Pub\, 18041 SW Lower Boones Ferry Rd.\, Tigard\, OR\, 97224
CATEGORIES:Trivia Night
END:VEVENT
END:VCALENDAR