BEGIN:VCALENDAR
VERSION:2.0
PRODID:-//Three Mermaids Pub | Tigard, OR - ECPv6.15.20//NONSGML v1.0//EN
CALSCALE:GREGORIAN
METHOD:PUBLISH
X-WR-CALNAME:Three Mermaids Pub | Tigard, OR
X-ORIGINAL-URL:https://www.threemermaidspub.com
X-WR-CALDESC:Events for Three Mermaids Pub | Tigard, OR
REFRESH-INTERVAL;VALUE=DURATION:PT1H
X-Robots-Tag:noindex
X-PUBLISHED-TTL:PT1H
BEGIN:VTIMEZONE
TZID:UTC
BEGIN:STANDARD
TZOFFSETFROM:+0000
TZOFFSETTO:+0000
TZNAME:UTC
DTSTART:20250101T000000
END:STANDARD
END:VTIMEZONE
BEGIN:VEVENT
DTSTART;TZID=UTC:20260302T190000
DTEND;TZID=UTC:20260302T210000
DTSTAMP:20260422T115444
CREATED:20260103T195324Z
LAST-MODIFIED:20260103T195324Z
UID:2531-1772478000-1772485200@www.threemermaidspub.com
SUMMARY:Disney Trivia
DESCRIPTION:
URL:https://www.threemermaidspub.com/event/disney-trivia-3/
LOCATION:Three Mermaids Pub\, 18041 SW Lower Boones Ferry Rd.\, Tigard\, OR\, 97224
CATEGORIES:Trivia Night
END:VEVENT
BEGIN:VEVENT
DTSTART;TZID=UTC:20260311T190000
DTEND;TZID=UTC:20260311T210000
DTSTAMP:20260422T115444
CREATED:20260306T174940Z
LAST-MODIFIED:20260306T174940Z
UID:2743-1773255600-1773262800@www.threemermaidspub.com
SUMMARY:General Trivia!
DESCRIPTION:
URL:https://www.threemermaidspub.com/event/general-trivia-84/
LOCATION:Three Mermaids Pub\, 18041 SW Lower Boones Ferry Rd.\, Tigard\, OR\, 97224
CATEGORIES:Trivia Night
END:VEVENT
BEGIN:VEVENT
DTSTART;TZID=UTC:20260316T183000
DTEND;TZID=UTC:20260316T203000
DTSTAMP:20260422T115444
CREATED:20260103T195415Z
LAST-MODIFIED:20260306T180936Z
UID:2533-1773685800-1773693000@www.threemermaidspub.com
SUMMARY:Early 2000's Trivia
DESCRIPTION:
URL:https://www.threemermaidspub.com/event/early-2000s-trivia/
LOCATION:Three Mermaids Pub\, 18041 SW Lower Boones Ferry Rd.\, Tigard\, OR\, 97224
CATEGORIES:Trivia Night
END:VEVENT
BEGIN:VEVENT
DTSTART;TZID=UTC:20260318T190000
DTEND;TZID=UTC:20260318T210000
DTSTAMP:20260422T115444
CREATED:20260306T175008Z
LAST-MODIFIED:20260306T175008Z
UID:2745-1773860400-1773867600@www.threemermaidspub.com
SUMMARY:General Trivia!
DESCRIPTION:
URL:https://www.threemermaidspub.com/event/general-trivia-85/
LOCATION:Three Mermaids Pub\, 18041 SW Lower Boones Ferry Rd.\, Tigard\, OR\, 97224
CATEGORIES:Trivia Night
END:VEVENT
BEGIN:VEVENT
DTSTART;TZID=UTC:20260325T190000
DTEND;TZID=UTC:20260325T210000
DTSTAMP:20260422T115444
CREATED:20260306T175041Z
LAST-MODIFIED:20260306T175041Z
UID:2747-1774465200-1774472400@www.threemermaidspub.com
SUMMARY:General Trivia!
DESCRIPTION:
URL:https://www.threemermaidspub.com/event/general-trivia-86/
LOCATION:Three Mermaids Pub\, 18041 SW Lower Boones Ferry Rd.\, Tigard\, OR\, 97224
CATEGORIES:Trivia Night
END:VEVENT
END:VCALENDAR