BEGIN:VCALENDAR
VERSION:2.0
PRODID:-//Three Mermaids Pub | Tigard, OR - ECPv6.15.20//NONSGML v1.0//EN
CALSCALE:GREGORIAN
METHOD:PUBLISH
X-WR-CALNAME:Three Mermaids Pub | Tigard, OR
X-ORIGINAL-URL:https://www.threemermaidspub.com
X-WR-CALDESC:Events for Three Mermaids Pub | Tigard, OR
REFRESH-INTERVAL;VALUE=DURATION:PT1H
X-Robots-Tag:noindex
X-PUBLISHED-TTL:PT1H
BEGIN:VTIMEZONE
TZID:UTC
BEGIN:STANDARD
TZOFFSETFROM:+0000
TZOFFSETTO:+0000
TZNAME:UTC
DTSTART:20250101T000000
END:STANDARD
END:VTIMEZONE
BEGIN:VEVENT
DTSTART;TZID=UTC:20260202T190000
DTEND;TZID=UTC:20260202T210000
DTSTAMP:20260422T133217
CREATED:20260103T195158Z
LAST-MODIFIED:20260103T195158Z
UID:2527-1770058800-1770066000@www.threemermaidspub.com
SUMMARY:Name That Tune Trivia
DESCRIPTION:
URL:https://www.threemermaidspub.com/event/name-that-tune-trivia-4/
LOCATION:Three Mermaids Pub\, 18041 SW Lower Boones Ferry Rd.\, Tigard\, OR\, 97224
CATEGORIES:Trivia Night
END:VEVENT
BEGIN:VEVENT
DTSTART;TZID=UTC:20260204T190000
DTEND;TZID=UTC:20260204T210000
DTSTAMP:20260422T133217
CREATED:20260102T183432Z
LAST-MODIFIED:20260102T183432Z
UID:2497-1770231600-1770238800@www.threemermaidspub.com
SUMMARY:General Trivia
DESCRIPTION:
URL:https://www.threemermaidspub.com/event/general-trivia-80/
LOCATION:Three Mermaids Pub\, 18041 SW Lower Boones Ferry Rd.\, Tigard\, OR\, 97224
CATEGORIES:Trivia Night
END:VEVENT
BEGIN:VEVENT
DTSTART;TZID=UTC:20260211T190000
DTEND;TZID=UTC:20260211T210000
DTSTAMP:20260422T133217
CREATED:20260102T183502Z
LAST-MODIFIED:20260102T183502Z
UID:2499-1770836400-1770843600@www.threemermaidspub.com
SUMMARY:General Trivia
DESCRIPTION:
URL:https://www.threemermaidspub.com/event/general-trivia-81/
LOCATION:Three Mermaids Pub\, 18041 SW Lower Boones Ferry Rd.\, Tigard\, OR\, 97224
CATEGORIES:Trivia Night
END:VEVENT
BEGIN:VEVENT
DTSTART;TZID=UTC:20260216T190000
DTEND;TZID=UTC:20260216T210000
DTSTAMP:20260422T133217
CREATED:20260103T195246Z
LAST-MODIFIED:20260103T195246Z
UID:2529-1771268400-1771275600@www.threemermaidspub.com
SUMMARY:Gilmore Girls Trivia
DESCRIPTION:
URL:https://www.threemermaidspub.com/event/gilmore-girls-trivia/
LOCATION:Three Mermaids Pub\, 18041 SW Lower Boones Ferry Rd.\, Tigard\, OR\, 97224
CATEGORIES:Trivia Night
END:VEVENT
BEGIN:VEVENT
DTSTART;TZID=UTC:20260218T190000
DTEND;TZID=UTC:20260218T210000
DTSTAMP:20260422T133217
CREATED:20260102T183536Z
LAST-MODIFIED:20260102T183536Z
UID:2501-1771441200-1771448400@www.threemermaidspub.com
SUMMARY:General Trivia
DESCRIPTION:
URL:https://www.threemermaidspub.com/event/general-trivia-82/
LOCATION:Three Mermaids Pub\, 18041 SW Lower Boones Ferry Rd.\, Tigard\, OR\, 97224
CATEGORIES:Trivia Night
END:VEVENT
BEGIN:VEVENT
DTSTART;TZID=UTC:20260225T190000
DTEND;TZID=UTC:20260225T210000
DTSTAMP:20260422T133217
CREATED:20260102T183605Z
LAST-MODIFIED:20260102T183605Z
UID:2503-1772046000-1772053200@www.threemermaidspub.com
SUMMARY:General Trivia
DESCRIPTION:
URL:https://www.threemermaidspub.com/event/general-trivia-83/
LOCATION:Three Mermaids Pub\, 18041 SW Lower Boones Ferry Rd.\, Tigard\, OR\, 97224
CATEGORIES:Trivia Night
END:VEVENT
END:VCALENDAR