BEGIN:VCALENDAR
VERSION:2.0
PRODID:-//Three Mermaids Pub | Tigard, OR - ECPv6.15.20//NONSGML v1.0//EN
CALSCALE:GREGORIAN
METHOD:PUBLISH
X-WR-CALNAME:Three Mermaids Pub | Tigard, OR
X-ORIGINAL-URL:https://www.threemermaidspub.com
X-WR-CALDESC:Events for Three Mermaids Pub | Tigard, OR
REFRESH-INTERVAL;VALUE=DURATION:PT1H
X-Robots-Tag:noindex
X-PUBLISHED-TTL:PT1H
BEGIN:VTIMEZONE
TZID:UTC
BEGIN:STANDARD
TZOFFSETFROM:+0000
TZOFFSETTO:+0000
TZNAME:UTC
DTSTART:20250101T000000
END:STANDARD
END:VTIMEZONE
BEGIN:VEVENT
DTSTART;TZID=UTC:20260107T190000
DTEND;TZID=UTC:20260107T210000
DTSTAMP:20260422T151041
CREATED:20260102T183228Z
LAST-MODIFIED:20260102T183228Z
UID:2489-1767812400-1767819600@www.threemermaidspub.com
SUMMARY:General Trivia
DESCRIPTION:
URL:https://www.threemermaidspub.com/event/general-trivia-76/
LOCATION:Three Mermaids Pub\, 18041 SW Lower Boones Ferry Rd.\, Tigard\, OR\, 97224
CATEGORIES:Trivia Night
END:VEVENT
BEGIN:VEVENT
DTSTART;TZID=UTC:20260114T190000
DTEND;TZID=UTC:20260114T210000
DTSTAMP:20260422T151041
CREATED:20260102T183256Z
LAST-MODIFIED:20260102T183256Z
UID:2491-1768417200-1768424400@www.threemermaidspub.com
SUMMARY:General Trivia
DESCRIPTION:
URL:https://www.threemermaidspub.com/event/general-trivia-77/
LOCATION:Three Mermaids Pub\, 18041 SW Lower Boones Ferry Rd.\, Tigard\, OR\, 97224
CATEGORIES:Trivia Night
END:VEVENT
BEGIN:VEVENT
DTSTART;TZID=UTC:20260119T190000
DTEND;TZID=UTC:20260119T210000
DTSTAMP:20260422T151041
CREATED:20260102T183151Z
LAST-MODIFIED:20260102T183151Z
UID:2487-1768849200-1768856400@www.threemermaidspub.com
SUMMARY:Harry Potter Trivia!
DESCRIPTION:
URL:https://www.threemermaidspub.com/event/harry-potter-trivia-2/
LOCATION:Three Mermaids Pub\, 18041 SW Lower Boones Ferry Rd.\, Tigard\, OR\, 97224
CATEGORIES:Trivia Night
END:VEVENT
BEGIN:VEVENT
DTSTART;TZID=UTC:20260121T190000
DTEND;TZID=UTC:20260121T210000
DTSTAMP:20260422T151041
CREATED:20260102T183324Z
LAST-MODIFIED:20260102T183324Z
UID:2493-1769022000-1769029200@www.threemermaidspub.com
SUMMARY:General Trivia
DESCRIPTION:
URL:https://www.threemermaidspub.com/event/general-trivia-78/
LOCATION:Three Mermaids Pub\, 18041 SW Lower Boones Ferry Rd.\, Tigard\, OR\, 97224
CATEGORIES:Trivia Night
END:VEVENT
BEGIN:VEVENT
DTSTART;TZID=UTC:20260128T190000
DTEND;TZID=UTC:20260128T210000
DTSTAMP:20260422T151041
CREATED:20260102T183355Z
LAST-MODIFIED:20260102T183355Z
UID:2495-1769626800-1769634000@www.threemermaidspub.com
SUMMARY:General Trivia
DESCRIPTION:
URL:https://www.threemermaidspub.com/event/general-trivia-79/
LOCATION:Three Mermaids Pub\, 18041 SW Lower Boones Ferry Rd.\, Tigard\, OR\, 97224
CATEGORIES:Trivia Night
END:VEVENT
END:VCALENDAR