BEGIN:VCALENDAR
VERSION:2.0
PRODID:-//Three Mermaids Pub | Tigard, OR - ECPv6.15.20//NONSGML v1.0//EN
CALSCALE:GREGORIAN
METHOD:PUBLISH
X-ORIGINAL-URL:https://www.threemermaidspub.com
X-WR-CALDESC:Events for Three Mermaids Pub | Tigard, OR
REFRESH-INTERVAL;VALUE=DURATION:PT1H
X-Robots-Tag:noindex
X-PUBLISHED-TTL:PT1H
BEGIN:VTIMEZONE
TZID:UTC
BEGIN:STANDARD
TZOFFSETFROM:+0000
TZOFFSETTO:+0000
TZNAME:UTC
DTSTART:20240101T000000
END:STANDARD
END:VTIMEZONE
BEGIN:VEVENT
DTSTART;TZID=UTC:20251130T180000
DTEND;TZID=UTC:20251130T200000
DTSTAMP:20260422T123906
CREATED:20251114T023001Z
LAST-MODIFIED:20251114T023001Z
UID:2364-1764525600-1764532800@www.threemermaidspub.com
SUMMARY:Create Your Own Ornament
DESCRIPTION:Join us in create your own hanging memory! $30 per person\, 18+ event \nWe provide the crafts\, a drink\, and the cheer!
URL:https://www.threemermaidspub.com/event/create-your-own-ornament/
LOCATION:Three Mermaids Pub\, 18041 SW Lower Boones Ferry Rd.\, Tigard\, OR\, 97224
CATEGORIES:Pub Event
END:VEVENT
END:VCALENDAR