BEGIN:VCALENDAR
VERSION:2.0
PRODID:-//Three Mermaids Pub | Tigard, OR - ECPv6.15.20//NONSGML v1.0//EN
CALSCALE:GREGORIAN
METHOD:PUBLISH
X-WR-CALNAME:Three Mermaids Pub | Tigard, OR
X-ORIGINAL-URL:https://www.threemermaidspub.com
X-WR-CALDESC:Events for Three Mermaids Pub | Tigard, OR
REFRESH-INTERVAL;VALUE=DURATION:PT1H
X-Robots-Tag:noindex
X-PUBLISHED-TTL:PT1H
BEGIN:VTIMEZONE
TZID:UTC
BEGIN:STANDARD
TZOFFSETFROM:+0000
TZOFFSETTO:+0000
TZNAME:UTC
DTSTART:20250101T000000
END:STANDARD
END:VTIMEZONE
BEGIN:VEVENT
DTSTART;TZID=UTC:20260303T160000
DTEND;TZID=UTC:20260303T210000
DTSTAMP:20260420T223133
CREATED:20260228T182750Z
LAST-MODIFIED:20260228T182750Z
UID:2623-1772553600-1772571600@www.threemermaidspub.com
SUMMARY:Closed for a Private Event
DESCRIPTION:
URL:https://www.threemermaidspub.com/event/closed-for-a-private-event/
LOCATION:Three Mermaids Pub\, 18041 SW Lower Boones Ferry Rd.\, Tigard\, OR\, 97224
CATEGORIES:Private Event
END:VEVENT
END:VCALENDAR