BEGIN:VCALENDAR
VERSION:2.0
PRODID:-//Three Mermaids Pub | Tigard, OR - ECPv6.15.20//NONSGML v1.0//EN
CALSCALE:GREGORIAN
METHOD:PUBLISH
X-WR-CALNAME:Three Mermaids Pub | Tigard, OR
X-ORIGINAL-URL:https://www.threemermaidspub.com
X-WR-CALDESC:Events for Three Mermaids Pub | Tigard, OR
REFRESH-INTERVAL;VALUE=DURATION:PT1H
X-Robots-Tag:noindex
X-PUBLISHED-TTL:PT1H
BEGIN:VTIMEZONE
TZID:UTC
BEGIN:STANDARD
TZOFFSETFROM:+0000
TZOFFSETTO:+0000
TZNAME:UTC
DTSTART:20250101T000000
END:STANDARD
END:VTIMEZONE
BEGIN:VEVENT
DTSTART;VALUE=DATE:20260421
DTEND;VALUE=DATE:20260422
DTSTAMP:20260421T013955
CREATED:20260301T181216Z
LAST-MODIFIED:20260301T181216Z
UID:2676-1776729600-1776815999@www.threemermaidspub.com
SUMMARY:iTaco Tuesday!
DESCRIPTION:Join us for Taco Tuesday! We have $8 house margaritas\, $4.75 Mexican Lagers\, and of course TACOS! \n(2) Chicken or Pork soft tacos served with chips and salsa – $11 \n(2) Cod or Shrimp soft tacos served with chips and salsa – $15
URL:https://www.threemermaidspub.com/event/itaco-tuesday-37/
LOCATION:Three Mermaids Pub\, 18041 SW Lower Boones Ferry Rd.\, Tigard\, OR\, 97224
CATEGORIES:Taco Tuesday!
END:VEVENT
END:VCALENDAR