BEGIN:VCALENDAR
VERSION:2.0
PRODID:-//Three Mermaids Pub | Tigard, OR - ECPv6.15.20//NONSGML v1.0//EN
CALSCALE:GREGORIAN
METHOD:PUBLISH
X-WR-CALNAME:Three Mermaids Pub | Tigard, OR
X-ORIGINAL-URL:https://www.threemermaidspub.com
X-WR-CALDESC:Events for Three Mermaids Pub | Tigard, OR
REFRESH-INTERVAL;VALUE=DURATION:PT1H
X-Robots-Tag:noindex
X-PUBLISHED-TTL:PT1H
BEGIN:VTIMEZONE
TZID:UTC
BEGIN:STANDARD
TZOFFSETFROM:+0000
TZOFFSETTO:+0000
TZNAME:UTC
DTSTART:20250101T000000
END:STANDARD
END:VTIMEZONE
BEGIN:VEVENT
DTSTART;TZID=UTC:20260110T180000
DTEND;TZID=UTC:20260110T200000
DTSTAMP:20260421T130233
CREATED:20260103T194010Z
LAST-MODIFIED:20260103T194010Z
UID:2507-1768068000-1768075200@www.threemermaidspub.com
SUMMARY:Music Bingo!
DESCRIPTION:Country Classics and Black Excellence
URL:https://www.threemermaidspub.com/event/music-bingo-10/
LOCATION:Three Mermaids Pub\, 18041 SW Lower Boones Ferry Rd.\, Tigard\, OR\, 97224
CATEGORIES:Music Bingo
END:VEVENT
END:VCALENDAR